BEGIN:VCALENDAR
VERSION:2.0
PRODID:Events Booking
BEGIN:VEVENT
UID:69e5e7c175a1d
SUMMARY:Zundert
DESCRIPTION:
 
 
 |      
 
 
 
 Klassieke Zundertrit die ons v
 oert via Riel\, Alphen\, Baarle-Nassau\, Baarle-Hertog\, Hoogstraten\, Zun
 dert\, Rijsbergen\, Chaam\, Alphen\, Riel en terug naar Goirle.
 Zorg dat
  je je identiteitskaart of paspoort bij je hebt!
 
 
 
 
LOCATION:Frankische Driehoek\, 5052 Goirle\, Nederland
DTSTART:20170603T063000Z
DTSTAMP:20260420T084553Z
ORGANIZER;CN=Website WTC De Hellen:MAILTO:webmaster@wtcdehellen.nl
GEO:51.526267;5.051304
X-APPLE-STRUCTURED-LOCATION;VALUE=URI;X-ADDRESS=Frankische Driehoek\, 5052 
 Goirle\, Nederland;X-APPLE-RADIUS=72;X-TITLE=De Deel:51.526267;5.051304
END:VEVENT
END:VCALENDAR