BEGIN:VCALENDAR
VERSION:2.0
PRODID:Events Booking
BEGIN:VEVENT
UID:69eb49929d3cf
SUMMARY:Witrijt 82km
DESCRIPTION:
DTSTART:20230503T070000Z
DTSTAMP:20230101T181657Z
ORGANIZER;CN=Website WTC De Hellen:MAILTO:webmaster@wtcdehellen.nl
END:VEVENT
END:VCALENDAR