BEGIN:VCALENDAR
VERSION:2.0
PRODID:Events Booking
BEGIN:VEVENT
UID:69e72f0e7d587
SUMMARY:Winterritten
DESCRIPTION:
DTSTART:20221130T083000Z
DTSTAMP:20221104T193128Z
ORGANIZER;CN=Website WTC De Hellen:MAILTO:webmaster@wtcdehellen.nl
END:VEVENT
END:VCALENDAR