BEGIN:VCALENDAR
VERSION:2.0
PRODID:Events Booking
BEGIN:VEVENT
UID:69e5e9d6880d9
SUMMARY:Winter gravelrit 60km
DESCRIPTION:
DTSTART:20240203T080000Z
DTSTAMP:20231231T091815Z
ORGANIZER;CN=Website WTC De Hellen:MAILTO:webmaster@wtcdehellen.nl
END:VEVENT
END:VCALENDAR