BEGIN:VCALENDAR
VERSION:2.0
PRODID:Events Booking
BEGIN:VEVENT
UID:69e60e2706e7f
SUMMARY:Winter Gravelrit 60km
DESCRIPTION:
DTSTART:20260110T080000Z
DTSTAMP:20250915T050558Z
ORGANIZER;CN=Website WTC De Hellen:MAILTO:webmaster@wtcdehellen.nl
END:VEVENT
END:VCALENDAR