BEGIN:VCALENDAR
VERSION:2.0
PRODID:Events Booking
BEGIN:VEVENT
UID:69e5e7c350202
SUMMARY:Welschap
DESCRIPTION:
 
 
 &nbsp\;&nbsp\; &nbsp\;
 
 
 
 Via Biest-Houtakker\
 , Haghorst\, Oirschot\, langs vliegveld Welschap\, Wintelre\, Zandoerle\, 
 Knegsel\, Vessem\, Westelbeers\, Esbeek\, Diessen\, Hilvarenbeek en Biest-
 Houtakker terug naar Goirle.
 Pauzeplek: \"Gasterij 't Dorpsgenot\" in Ve
 ldhoven-Oerle.
 
 
 
 
LOCATION:Frankische Driehoek\, 5052 Goirle\, Nederland
DTSTART:20170524T070000Z
DTSTAMP:20260420T084555Z
ORGANIZER;CN=Website WTC De Hellen:MAILTO:webmaster@wtcdehellen.nl
GEO:51.526267;5.051304
X-APPLE-STRUCTURED-LOCATION;VALUE=URI;X-ADDRESS=Frankische Driehoek\, 5052 
 Goirle\, Nederland;X-APPLE-RADIUS=72;X-TITLE=De Deel:51.526267;5.051304
END:VEVENT
END:VCALENDAR