BEGIN:VCALENDAR
VERSION:2.0
PRODID:Events Booking
BEGIN:VEVENT
UID:69e5e85fcfc99
SUMMARY:Welschap
DESCRIPTION:
 
 
 |    
 
 
 
 Via Biest-Houtakker\, Haghorst\, O
 irschot\, langs vliegveld Welschap\, Wintelre\, Zandoerle\, Knegsel\, Vess
 em\, Westelbeers\, Esbeek\, Diessen\, Hilvarenbeek en Biest-Houtakker teru
 g naar Goirle.
 
 
 
 
DTSTART:20170802T070000Z
DTSTAMP:20260420T084831Z
ORGANIZER;CN=Website WTC De Hellen:MAILTO:webmaster@wtcdehellen.nl
END:VEVENT
END:VCALENDAR