BEGIN:VCALENDAR
VERSION:2.0
PRODID:Events Booking
BEGIN:VEVENT
UID:69e5f64c03095
SUMMARY:Welschap
DESCRIPTION:
 
 
 |       
 
 
 
 Via Biest-Houtakker\, Haghor
 st\, Oirschot\, langs vliegveld Welschap\, Wintelre\, Zandoerle\, Knegsel\
 , Vessem\, Westelbeers\, Esbeek\, Diessen\, Hilvarenbeek en Biest-Houtakke
 r terug naar Goirle.
 
 
 
 
LOCATION:Frankische Driehoek\, 5052 Goirle\, Nederland
DTSTART:20170528T063000Z
DTSTAMP:20260420T094756Z
ORGANIZER;CN=Website WTC De Hellen:MAILTO:webmaster@wtcdehellen.nl
GEO:51.526267;5.051304
X-APPLE-STRUCTURED-LOCATION;VALUE=URI;X-ADDRESS=Frankische Driehoek\, 5052 
 Goirle\, Nederland;X-APPLE-RADIUS=72;X-TITLE=De Deel:51.526267;5.051304
END:VEVENT
END:VCALENDAR