BEGIN:VCALENDAR
VERSION:2.0
PRODID:Events Booking
BEGIN:VEVENT
UID:69e6304958e94
SUMMARY:Wandeling
DESCRIPTION:
DTSTART:20221106T090000Z
DTEND:20221106T110000Z
DTSTAMP:20221003T164347Z
ORGANIZER;CN=Website WTC De Hellen:MAILTO:webmaster@wtcdehellen.nl
END:VEVENT
END:VCALENDAR