BEGIN:VCALENDAR
VERSION:2.0
PRODID:Events Booking
BEGIN:VEVENT
UID:69e630a95f063
SUMMARY:Voorrijden VVT ATB 50km 22-12
DESCRIPTION:
DTSTART:20181222T080000Z
DTSTAMP:20260420T135657Z
ORGANIZER;CN=Website WTC De Hellen:MAILTO:webmaster@wtcdehellen.nl
END:VEVENT
END:VCALENDAR