BEGIN:VCALENDAR
VERSION:2.0
PRODID:Events Booking
BEGIN:VEVENT
UID:69e82e912d75f
SUMMARY:Vrijthof VV 229km
DESCRIPTION:{GPSCONTENT [\"id\": 254\, \"elevation\": 1\, \"speed\": 1\, \"
 nomap\": 1\, \"description\": 1]}
DTSTART:20180714T050000Z
DTSTAMP:20260422T021233Z
ORGANIZER;CN=Website WTC De Hellen:MAILTO:webmaster@wtcdehellen.nl
END:VEVENT
END:VCALENDAR