BEGIN:VCALENDAR
VERSION:2.0
PRODID:Events Booking
BEGIN:VEVENT
UID:69e6315575879
SUMMARY:Voorrijden VTT ATB 50km 29-12-2018
DESCRIPTION:
DTSTART:20181229T080000Z
DTSTAMP:20260420T135949Z
ORGANIZER;CN=Website WTC De Hellen:MAILTO:webmaster@wtcdehellen.nl
END:VEVENT
END:VCALENDAR