BEGIN:VCALENDAR
VERSION:2.0
PRODID:Events Booking
BEGIN:VEVENT
UID:69e645e52fd80
SUMMARY:Voorrijden VTT ATB 50km 4-1-20
DESCRIPTION:
DTSTART:20200104T080000Z
DTSTAMP:20260420T152733Z
ORGANIZER;CN=Website WTC De Hellen:MAILTO:webmaster@wtcdehellen.nl
END:VEVENT
END:VCALENDAR