BEGIN:VCALENDAR
VERSION:2.0
PRODID:Events Booking
BEGIN:VEVENT
UID:69e65ac4cd8eb
SUMMARY:Voorrijden VTT ATB 50km 28-12-2019
DESCRIPTION:
DTSTART:20191228T080000Z
DTSTAMP:20260420T165636Z
ORGANIZER;CN=Website WTC De Hellen:MAILTO:webmaster@wtcdehellen.nl
END:VEVENT
END:VCALENDAR