BEGIN:VCALENDAR
VERSION:2.0
PRODID:Events Booking
BEGIN:VEVENT
UID:69e65ab38a662
SUMMARY:Voorrijden VTT ATB 50km 21-12-2019
DESCRIPTION:
DTSTART:20191221T080000Z
DTSTAMP:20260420T165619Z
ORGANIZER;CN=Website WTC De Hellen:MAILTO:webmaster@wtcdehellen.nl
END:VEVENT
END:VCALENDAR