BEGIN:VCALENDAR
VERSION:2.0
PRODID:Events Booking
BEGIN:VEVENT
UID:69e63106b448a
SUMMARY:Voorrijden VTT
DESCRIPTION:
 
 
 &nbsp\;A B C&nbsp\;&nbsp\;&nbsp\;
 
 
 
 Voorrijde
 n VTT + nieuwe route
 
 
 
 
DTSTART:20180106T080000Z
DTSTAMP:20260420T135830Z
ORGANIZER;CN=Website WTC De Hellen:MAILTO:webmaster@wtcdehellen.nl
END:VEVENT
END:VCALENDAR