BEGIN:VCALENDAR
VERSION:2.0
PRODID:Events Booking
BEGIN:VEVENT
UID:69e659ad3f2bb
SUMMARY:Voorrijden VTT
DESCRIPTION:
 
 
 &nbsp\;A B C&nbsp\;&nbsp\;&nbsp\;
 
 
 
 Voorrijde
 n VTT + nieuwe route
 
 
 
 
DTSTART:20171223T080000Z
DTSTAMP:20260420T165157Z
ORGANIZER;CN=Website WTC De Hellen:MAILTO:webmaster@wtcdehellen.nl
END:VEVENT
END:VCALENDAR