BEGIN:VCALENDAR
VERSION:2.0
PRODID:Events Booking
BEGIN:VEVENT
UID:69eb295943e8f
SUMMARY:De Veluwe
DESCRIPTION:
 
 
 &nbsp\;&nbsp\;&nbsp\;&nbsp\;A B C &nbsp\;&nbsp\;
 
 
 
 
 Een&nbsp\;ATB-verplaatsingstocht naar én op de Veluwe die&nbsp\;voo
 r iedereen goed te doen is\; welliswaar licht glooiend echter géén zware
  beklimmingen!
 
 
 
 
DTSTART:20180203T070000Z
DTSTAMP:20260424T082705Z
ORGANIZER;CN=Website WTC De Hellen:MAILTO:webmaster@wtcdehellen.nl
END:VEVENT
END:VCALENDAR