BEGIN:VCALENDAR
VERSION:2.0
PRODID:Events Booking
BEGIN:VEVENT
UID:69e60d837423b
SUMMARY:Velosoof
DESCRIPTION:
 
 
 |&nbsp\;&nbsp\; &nbsp\;&nbsp\;&nbsp\;&nbsp\;&nbsp\;|&n
 bsp\;&nbsp\; |&nbsp\;&nbsp\;
 
 
 
 Nieuwe rit \"de Velosoof\".
 Met 
 pauze in wielercafe Velosoof\, in hartje Eindhoven.
 
 
 
 
LOCATION:Frankische Driehoek\, 5052 Goirle\, Nederland
DTSTART:20170610T063000Z
DTSTAMP:20260420T112659Z
ORGANIZER;CN=Website WTC De Hellen:MAILTO:webmaster@wtcdehellen.nl
GEO:51.526267;5.051304
X-APPLE-STRUCTURED-LOCATION;VALUE=URI;X-ADDRESS=Frankische Driehoek\, 5052 
 Goirle\, Nederland;X-APPLE-RADIUS=72;X-TITLE=De Deel:51.526267;5.051304
END:VEVENT
END:VCALENDAR