BEGIN:VCALENDAR
VERSION:2.0
PRODID:Events Booking
BEGIN:VEVENT
UID:69e6595a099d6
SUMMARY:Veld Toer Tocht 2018
DESCRIPTION:
 
 
 &nbsp\;&nbsp\;A B C&nbsp\;&nbsp\;&nbsp\;
 
 
 
 Ve
 ld Toer Tocht 2018
 Wij clubleden helpen&nbsp\;bij de organisatie ervan\,
  en rijden de VTT dan zelf niet!
 
 
 
 
DTSTART:20180114T070000Z
DTSTAMP:20260420T165034Z
ORGANIZER;CN=Website WTC De Hellen:MAILTO:webmaster@wtcdehellen.nl
END:VEVENT
END:VCALENDAR