BEGIN:VCALENDAR
VERSION:2.0
PRODID:Events Booking
BEGIN:VEVENT
UID:69e5e86d8a16d
SUMMARY:Ulvenhout
DESCRIPTION:
 
 
 &nbsp\;&nbsp\; &nbsp\;
 
 
 
 Klassieke rit via Ri
 el\, Alphen\, Chaam\, Strijbeek\, Meerseldreef\, Ulvenhout\, Breda\, Bavel
  en Gilze via Riel terug naar Goirle.
 
 
 
 
LOCATION:Frankische Driehoek\, 5052 Goirle\, Nederland
DTSTART:20170830T070000Z
DTSTAMP:20260420T084845Z
ORGANIZER;CN=Website WTC De Hellen:MAILTO:webmaster@wtcdehellen.nl
GEO:51.526267;5.051304
X-APPLE-STRUCTURED-LOCATION;VALUE=URI;X-ADDRESS=Frankische Driehoek\, 5052 
 Goirle\, Nederland;X-APPLE-RADIUS=72;X-TITLE=De Deel:51.526267;5.051304
END:VEVENT
END:VCALENDAR