BEGIN:VCALENDAR
VERSION:2.0
PRODID:Events Booking
BEGIN:VEVENT
UID:69e6450611ad1
SUMMARY:Uitpijlen VTT
DESCRIPTION:
 
 
 &nbsp\;A B C&nbsp\;&nbsp\;&nbsp\;
 
 
 
 Uitpijlen
  VTT + nieuwe route
 
 
 
 
LOCATION:Spoorbaan 45\, 5051 ET Goirle\, Nederland
DTSTART:20180113T100000Z
DTSTAMP:20260420T152350Z
ORGANIZER;CN=Website WTC De Hellen:MAILTO:webmaster@wtcdehellen.nl
GEO:51.518412;5.050095
X-APPLE-STRUCTURED-LOCATION;VALUE=URI;X-ADDRESS=Spoorbaan 45\, 5051 ET Goir
 le\, Nederland;X-APPLE-RADIUS=72;X-TITLE=Clubhuis VOAB:51.518412;5.050095
END:VEVENT
END:VCALENDAR