BEGIN:VCALENDAR
VERSION:2.0
PRODID:Events Booking
BEGIN:VEVENT
UID:69e65a62d64bc
SUMMARY:Uitpijlen VTT ATB 60 km
DESCRIPTION:Uitpijlen van de VTT met de ATB\, de vrijwilligers die hieraan 
 meehelpen krijgen 60 punten.
LOCATION:Frankische Driehoek\, 5052 Goirle\, Nederland
DTSTART:20190112T080000Z
DTSTAMP:20260420T165458Z
ORGANIZER;CN=Website WTC De Hellen:MAILTO:webmaster@wtcdehellen.nl
GEO:51.526267;5.051304
X-APPLE-STRUCTURED-LOCATION;VALUE=URI;X-ADDRESS=Frankische Driehoek\, 5052 
 Goirle\, Nederland;X-APPLE-RADIUS=72;X-TITLE=De Deel:51.526267;5.051304
END:VEVENT
END:VCALENDAR