BEGIN:VCALENDAR
VERSION:2.0
PRODID:Events Booking
BEGIN:VEVENT
UID:69e8c44b20c75
SUMMARY:Tweedaagse 2021
DESCRIPTION:
DTSTART:20210911T060000Z
DTEND:20210912T153000Z
DTSTAMP:20260422T125123Z
ORGANIZER;CN=Website WTC De Hellen:MAILTO:webmaster@wtcdehellen.nl
END:VEVENT
END:VCALENDAR