BEGIN:VCALENDAR
VERSION:2.0
PRODID:Events Booking
BEGIN:VEVENT
UID:69e5e9aa1c3bb
SUMMARY:Trainingsrit - 
DESCRIPTION:
 
 
 |      
 
 
 
 De 4 bultjes rond Chaam en we
 er terug
 
 
 
 
DTSTART:20170905T163000Z
DTSTAMP:20260420T085402Z
ORGANIZER;CN=Website WTC De Hellen:MAILTO:webmaster@wtcdehellen.nl
END:VEVENT
END:VCALENDAR