BEGIN:VCALENDAR
VERSION:2.0
PRODID:Events Booking
BEGIN:VEVENT
UID:69e659c7861d9
SUMMARY:Tilburg ATB 50km
DESCRIPTION:{GPSCONTENT [\"id\": 264\, \"elevation\": 1\, \"speed\": 1\, \"
 nomap\": 1\, \"description\": 1]}
DTSTART:20190119T080000Z
DTSTAMP:20260420T165223Z
ORGANIZER;CN=Website WTC De Hellen:MAILTO:webmaster@wtcdehellen.nl
END:VEVENT
END:VCALENDAR