BEGIN:VCALENDAR
VERSION:2.0
PRODID:Events Booking
BEGIN:VEVENT
UID:69e61f7106ef7
SUMMARY:Putte / Ossendrech = AFGELAST!
DESCRIPTION:
 
 
 
  |   |  | A B C |
 
 
 
 
 Putte / Osse
 ndrecht
 
 
 
 
LOCATION:Frankische Driehoek\, 5052 Goirle\, Nederland
DTSTART:20170128T070000Z
DTSTAMP:20260420T124329Z
ORGANIZER;CN=Website WTC De Hellen:MAILTO:webmaster@wtcdehellen.nl
GEO:51.526267;5.051304
X-APPLE-STRUCTURED-LOCATION;VALUE=URI;X-ADDRESS=Frankische Driehoek\, 5052 
 Goirle\, Nederland;X-APPLE-RADIUS=72;X-TITLE=De Deel:51.526267;5.051304
END:VEVENT
END:VCALENDAR