BEGIN:VCALENDAR
VERSION:2.0
PRODID:Events Booking
BEGIN:VEVENT
UID:69e7d55530fd7
SUMMARY:Punten koppelkoers Extra
DESCRIPTION:
DTSTART:20190929T070000Z
DTSTAMP:20260421T195149Z
ORGANIZER;CN=Website WTC De Hellen:MAILTO:webmaster@wtcdehellen.nl
END:VEVENT
END:VCALENDAR