BEGIN:VCALENDAR
VERSION:2.0
PRODID:Events Booking
BEGIN:VEVENT
UID:69e7d5b71e475
SUMMARY:Punten 4e plaats koppelkoers 2019
DESCRIPTION:
DTSTART:20190929T070000Z
DTSTAMP:20260421T195327Z
ORGANIZER;CN=Website WTC De Hellen:MAILTO:webmaster@wtcdehellen.nl
END:VEVENT
END:VCALENDAR