BEGIN:VCALENDAR
VERSION:2.0
PRODID:Events Booking
BEGIN:VEVENT
UID:69e63048724f0
SUMMARY:Poppel
DESCRIPTION:
 
 
 &nbsp\;A B C&nbsp\;&nbsp\;&nbsp\;
 
 
 
 Poppel
 
 
 
 
 
DTSTART:20171104T080000Z
DTSTAMP:20260420T135520Z
ORGANIZER;CN=Website WTC De Hellen:MAILTO:webmaster@wtcdehellen.nl
END:VEVENT
END:VCALENDAR