BEGIN:VCALENDAR
VERSION:2.0
PRODID:Events Booking
BEGIN:VEVENT
UID:69e644c94342f
SUMMARY:Passen kleding - 3
DESCRIPTION:
LOCATION:Tilburgseweg 68\, 5051 AJ Goirle
DTSTART:20221003T073000Z
DTEND:20221003T100000Z
DTSTAMP:20220921T165810Z
ORGANIZER;CN=Website WTC De Hellen:MAILTO:webmaster@wtcdehellen.nl
GEO:51.522307;5.066436
X-APPLE-STRUCTURED-LOCATION;VALUE=URI;X-ADDRESS=Tilburgseweg 68\, 5051 AJ G
 oirle;X-APPLE-RADIUS=72;X-TITLE=Paul van Korven Fietsen:51.522307;5.066436
END:VEVENT
END:VCALENDAR