BEGIN:VCALENDAR
VERSION:2.0
PRODID:Events Booking
BEGIN:VEVENT
UID:69e7b52486cfe
SUMMARY:Oirschot 67km
DESCRIPTION:{GPSCONTENT [\"id\": 75\, \"elevation\": 1\, \"speed\": 1\, \"n
 omap\": 1\, \"description\": 1]}
DTSTART:20200719T073000Z
DTSTAMP:20260421T173428Z
ORGANIZER;CN=Website WTC De Hellen:MAILTO:webmaster@wtcdehellen.nl
END:VEVENT
END:VCALENDAR