BEGIN:VCALENDAR
VERSION:2.0
PRODID:Events Booking
BEGIN:VEVENT
UID:69eb29fb7f420
SUMMARY:Nijmegen (nieuw)
DESCRIPTION:
 
 
 &nbsp\;&nbsp\; &nbsp\;A B C&nbsp\;&nbsp\;&nbsp\;
 
 
 
 
 Nieuwe ATB-rit NIJMEGEN (op verplaatsing)!
 
 
 
 
DTSTART:20171125T070000Z
DTSTAMP:20260424T082947Z
ORGANIZER;CN=Website WTC De Hellen:MAILTO:webmaster@wtcdehellen.nl
END:VEVENT
END:VCALENDAR