BEGIN:VCALENDAR
VERSION:2.0
PRODID:Events Booking
BEGIN:VEVENT
UID:69e64531aa945
SUMMARY:Nijmegen ATB 48km
DESCRIPTION:{GPSCONTENT [\"id\": 219\, \"elevation\": 1\, \"speed\": 1\, \"
 nomap\": 1\, \"description\": 1]}
DTSTART:20191123T073000Z
DTSTAMP:20260420T152433Z
ORGANIZER;CN=Website WTC De Hellen:MAILTO:webmaster@wtcdehellen.nl
END:VEVENT
END:VCALENDAR