BEGIN:VCALENDAR
VERSION:2.0
PRODID:Events Booking
BEGIN:VEVENT
UID:69eb31da5505c
SUMMARY:Nieuwjaarsreceptie 2024
DESCRIPTION:
LOCATION:Dorpsstraat 72 5051 CL Goirle
DTSTART:20240124T183000Z
DTEND:20240124T203000Z
DTSTAMP:20231226T201954Z
ORGANIZER;CN=Website WTC De Hellen:MAILTO:webmaster@wtcdehellen.nl
GEO:51.521447;5.060033
X-APPLE-STRUCTURED-LOCATION;VALUE=URI;X-ADDRESS=Dorpsstraat 72 5051 CL Goir
 le;X-APPLE-RADIUS=72;X-TITLE=Roks Autobedrijf:51.521447;5.060033
END:VEVENT
END:VCALENDAR