BEGIN:VCALENDAR
VERSION:2.0
PRODID:Events Booking
BEGIN:VEVENT
UID:69e65aff115b7
SUMMARY:Nieuwjaarsreceptie 2023
DESCRIPTION:Nieuwjaarsreceptie van WTC De Hellen.
 Het moment om elkaar ee
 n gelukkig\, sportief en gezond nieuwjaar te wensen.
 Het bestuur.
LOCATION:Dorpsstraat 72 5051 CL Goirle
DTSTART:20230119T183000Z
DTEND:20230119T210000Z
DTSTAMP:20260420T165735Z
ORGANIZER;CN=Website WTC De Hellen:MAILTO:webmaster@wtcdehellen.nl
GEO:51.521447;5.060033
X-APPLE-STRUCTURED-LOCATION;VALUE=URI;X-ADDRESS=Dorpsstraat 72 5051 CL Goir
 le;X-APPLE-RADIUS=72;X-TITLE=Roks Autobedrijf:51.521447;5.060033
END:VEVENT
END:VCALENDAR