BEGIN:VCALENDAR
VERSION:2.0
PRODID:Events Booking
BEGIN:VEVENT
UID:69e60cc4d51ca
SUMMARY:Maasroute
DESCRIPTION:
 
 
 |     
 
 
 
 Toffe toertocht die ons via Tilb
 urg-zuid\, Berkel-Enschot\, Biezenmortel\, Cromvoirt\, Nieuwkuijk\, Oudheu
 sden\, Doeveren\, Zomerdijk\, Waspik\, Oosteind\, Dongen\, Hulten\, Gilze 
 en Riel terug naarGoirle brengt.
 
 
 
 
LOCATION:Frankische Driehoek\, 5052 Goirle\, Nederland
DTSTART:20170610T063000Z
DTSTAMP:20260420T112348Z
ORGANIZER;CN=Website WTC De Hellen:MAILTO:webmaster@wtcdehellen.nl
GEO:51.526267;5.051304
X-APPLE-STRUCTURED-LOCATION;VALUE=URI;X-ADDRESS=Frankische Driehoek\, 5052 
 Goirle\, Nederland;X-APPLE-RADIUS=72;X-TITLE=De Deel:51.526267;5.051304
END:VEVENT
END:VCALENDAR