BEGIN:VCALENDAR
VERSION:2.0
PRODID:Events Booking
BEGIN:VEVENT
UID:69e60c775af8e
SUMMARY:Maasbommel
DESCRIPTION:
 
 
 |        |   
 
 
 
 Via Tilburg\, Berke
 l-Enschot\, Udenhout\, Helvoirt\, Vlijmen\, Bokhoven\, Hedel\, Kerkdriel\,
  Rossum\, Dreumel\, Maasbommel\, Lith\, Heerwaarden\, Maren\, Rosmalen\, H
 intham\, Den Dungen\, Sint-Michielsgestel\, Gemonde\, Liempde\, De Beerse\
 , Spoordonk\, Biest-Houtakker en terug naar Goirle.
 Pauze: Eeterij \"de 
 Pont\" (0487-560601) in Maasbommel direct na het pontje met uitkijk op de 
 Maas.
 
 
 
 
LOCATION:Frankische Driehoek\, 5052 Goirle\, Nederland
DTSTART:20170617T060000Z
DTSTAMP:20260420T112231Z
ORGANIZER;CN=Website WTC De Hellen:MAILTO:webmaster@wtcdehellen.nl
GEO:51.526267;5.051304
X-APPLE-STRUCTURED-LOCATION;VALUE=URI;X-ADDRESS=Frankische Driehoek\, 5052 
 Goirle\, Nederland;X-APPLE-RADIUS=72;X-TITLE=De Deel:51.526267;5.051304
END:VEVENT
END:VCALENDAR