BEGIN:VCALENDAR
VERSION:2.0
PRODID:Events Booking
BEGIN:VEVENT
UID:69e7ea0e35fbb
SUMMARY:Maasbommel 170km
DESCRIPTION:{GPSCONTENT [\"id\": 141\, \"elevation\": 1\, \"speed\": 1\, \"
 nomap\": 1\, \"description\": 1]}
DTSTART:20190608T060000Z
DTSTAMP:20260421T212014Z
ORGANIZER;CN=Website WTC De Hellen:MAILTO:webmaster@wtcdehellen.nl
END:VEVENT
END:VCALENDAR