BEGIN:VCALENDAR
VERSION:2.0
PRODID:Events Booking
BEGIN:VEVENT
UID:69e5ecda27dbe
SUMMARY:La Redoute
DESCRIPTION:
 
 
 |          |   |    
 
 
 
 La Redou
 te
 
 
 
 
DTSTART:20170722T050000Z
DTSTAMP:20260420T090738Z
ORGANIZER;CN=Website WTC De Hellen:MAILTO:webmaster@wtcdehellen.nl
END:VEVENT
END:VCALENDAR