BEGIN:VCALENDAR
VERSION:2.0
PRODID:Events Booking
BEGIN:VEVENT
UID:69e809f2189a6
SUMMARY:Koppelkoers 
DESCRIPTION:
DTSTART:20181007T063000Z
DTSTAMP:20260421T233618Z
ORGANIZER;CN=Website WTC De Hellen:MAILTO:webmaster@wtcdehellen.nl
END:VEVENT
END:VCALENDAR