BEGIN:VCALENDAR
VERSION:2.0
PRODID:Events Booking
BEGIN:VEVENT
UID:69e82dc1dede9
SUMMARY:Kinderdijk 214km
DESCRIPTION:
 
 
 
 
 
 
 {GPSCONTENT [\"id\": 93\, \"elevation\": 1
 \, \"speed\": 1\, \"nomap\": 1\, \"description\": 1]}
 
 
 
 
 
DTSTART:20180623T053000Z
DTSTAMP:20260422T020905Z
ORGANIZER;CN=Website WTC De Hellen:MAILTO:webmaster@wtcdehellen.nl
END:VEVENT
END:VCALENDAR