BEGIN:VCALENDAR
VERSION:2.0
PRODID:Events Booking
BEGIN:VEVENT
UID:69e5ed6b06855
SUMMARY:Kattenbosch
DESCRIPTION:
 
 
 &nbsp\;&nbsp\; &nbsp\;
 
 
 
 Nieuwe toerrit van c
 irca 79 kilometer die ons via nieuwe en bestaande wegen vanaf De Deel bren
 gt in de omgeving van Hilvarenbeek\, Biest-Houtakker\, Moergestel\, Oister
 wijk\, Lennisheuvel\, Oirschot\, Oost-\, West- en Middelbeers\, Vessem\, N
 etersel\, Hulsel\, Reusel\, Hoge Mierde\, Lage Mierde\, Hilvarenbeek en we
 er terug naar (Mozes) Goirle.
 De pauzeplaats is voorzien bij \"De Kroon\
 " in Oirschot.
 
 
 
 
LOCATION:Frankische Driehoek\, 5052 Goirle\, Nederland
DTSTART:20170531T070000Z
DTSTAMP:20260420T091003Z
ORGANIZER;CN=Website WTC De Hellen:MAILTO:webmaster@wtcdehellen.nl
GEO:51.526267;5.051304
X-APPLE-STRUCTURED-LOCATION;VALUE=URI;X-ADDRESS=Frankische Driehoek\, 5052 
 Goirle\, Nederland;X-APPLE-RADIUS=72;X-TITLE=De Deel:51.526267;5.051304
END:VEVENT
END:VCALENDAR