BEGIN:VCALENDAR
VERSION:2.0
PRODID:Events Booking
BEGIN:VEVENT
UID:69e66ac135d7c
SUMMARY:Jubileumquiz
DESCRIPTION:Beste leden\,
 Drie jaar geleden had de feestcommissie bedacht
  dat we een jubileumquiz op het programma zouden zetten vanwege ons 40-jar
 ig bestaan. Een quiz met wielervragen en vragen/kennis over onze club. Doo
 r de Corona heeft deze niet plaatsgevonden.&nbsp\;
 De quiz is op de plan
 ken blijven liggen\, maar wat in het vat zit verzuurt niet en dus wordt de
 ze quiz gehouden op vrijdag 10 februari in de zaal bij onze sponsor Mozes.
 
 Bij nieuws kun je binnenkort meer hierover lezen.
LOCATION:De Hovel 45\, 5051 NR Goirle\, Nederland
DTSTART:20230210T183000Z
DTSTAMP:20221229T153850Z
ORGANIZER;CN=Website WTC De Hellen:MAILTO:webmaster@wtcdehellen.nl
GEO:51.52063;5.068048
X-APPLE-STRUCTURED-LOCATION;VALUE=URI;X-ADDRESS=De Hovel 45\, 5051 NR Goirl
 e\, Nederland;X-APPLE-RADIUS=72;X-TITLE=Café Mozes:51.52063;5.068048
END:VEVENT
END:VCALENDAR