BEGIN:VCALENDAR
VERSION:2.0
PRODID:Events Booking
BEGIN:VEVENT
UID:69e659a7ea47e
SUMMARY:Grensland route 112 km
DESCRIPTION:
 
 
 |&nbsp\;&nbsp\;|&nbsp\;A B C&nbsp\;|&nbsp\;&nbsp\;|
 
 
 
 
 NIEUWE RIT i.p.v. Scherpenheuvel!
 
 
 
 
DTSTART:20171028T070000Z
DTSTAMP:20260420T165151Z
ORGANIZER;CN=Website WTC De Hellen:MAILTO:webmaster@wtcdehellen.nl
END:VEVENT
END:VCALENDAR