BEGIN:VCALENDAR
VERSION:2.0
PRODID:Events Booking
BEGIN:VEVENT
UID:69e61f143f33c
SUMMARY:Dorst 2017
DESCRIPTION:
 
 
  |  | A B C |  |
 
 
 
 Komende zaterdag zo
 uden we naar Ossendrecht gaan om daar met de ATB te rijden. Helaas is onze
  organisator ter plaatse ziek (Paul Meeus)\, en dus hebben we besloten om 
 deze rit nu niet te rijden. De mensen die opgegeven hadden zijn inmiddels 
 ingelicht.Voor de thuisblijvers geld dat we gewoon de route rijden die op 
 het programma staat vanaf De Deel. Vertrek om 9 uur en de inzet is om met 
 2 groepen te starten.Mijn voorstel is om wat minder over de weg te rijden\
 , en als we na de bossen in Dorst dezelfde weg terugrijden als de heenweg\
 , rijden we een heel stuk minder over de weg dan dat we 22 oktober hebben 
 gedaan. ik vond dat een mooie route alleen om de terugweg iets teveel verh
 ard. Als we er dat nu uit halen dan wordt het een geslaagde ochtend.Hopeli
 jk tot zaterdagochtend allemaal en dat we een grote opkomst mogen hebben.
 
 
 
 
 
LOCATION:Frankische Driehoek\, 5052 Goirle\, Nederland
DTSTART:20170128T080000Z
DTSTAMP:20260420T124156Z
ORGANIZER;CN=Website WTC De Hellen:MAILTO:webmaster@wtcdehellen.nl
GEO:51.526267;5.051304
X-APPLE-STRUCTURED-LOCATION;VALUE=URI;X-ADDRESS=Frankische Driehoek\, 5052 
 Goirle\, Nederland;X-APPLE-RADIUS=72;X-TITLE=De Deel:51.526267;5.051304
END:VEVENT
END:VCALENDAR