BEGIN:VCALENDAR
VERSION:2.0
PRODID:Events Booking
BEGIN:VEVENT
UID:69eb29882b2d7
SUMMARY:Diessen ATB 55km
DESCRIPTION:{GPSCONTENT [\"id\": 218\, \"elevation\": 1\, \"speed\": 1\, \"
 nomap\": 1\, \"description\": 1]}
LOCATION:Frankische Driehoek\, 5052 Goirle\, Nederland
DTSTART:20181103T080000Z
DTSTAMP:20260424T082752Z
ORGANIZER;CN=Website WTC De Hellen:MAILTO:webmaster@wtcdehellen.nl
GEO:51.526267;5.051304
X-APPLE-STRUCTURED-LOCATION;VALUE=URI;X-ADDRESS=Frankische Driehoek\, 5052 
 Goirle\, Nederland;X-APPLE-RADIUS=72;X-TITLE=De Deel:51.526267;5.051304
END:VEVENT
END:VCALENDAR