BEGIN:VCALENDAR
VERSION:2.0
PRODID:Events Booking
BEGIN:VEVENT
UID:69e60cc8b39fd
SUMMARY:Den Bosch
DESCRIPTION:
 
 
 |    
 
 
 
 Toerrit die ons brengt naar Hilvar
 enbeek\, Biest-Houtakker\, Spoordonk\, Liempde\, Langenberg\, Gemonde\, Si
 nt-Michielsgestel\, Esch\, Haaren\, Oisterwijk\, Moergestel\, Tilburg en w
 eer terug in Goirle.
 
 
 
 
LOCATION:Frankische Driehoek\, 5052 Goirle\, Nederland
DTSTART:20170607T070000Z
DTSTAMP:20260420T112352Z
ORGANIZER;CN=Website WTC De Hellen:MAILTO:webmaster@wtcdehellen.nl
GEO:51.526267;5.051304
X-APPLE-STRUCTURED-LOCATION;VALUE=URI;X-ADDRESS=Frankische Driehoek\, 5052 
 Goirle\, Nederland;X-APPLE-RADIUS=72;X-TITLE=De Deel:51.526267;5.051304
END:VEVENT
END:VCALENDAR