BEGIN:VCALENDAR
VERSION:2.0
PRODID:Events Booking
BEGIN:VEVENT
UID:69eb2847aa9c8
SUMMARY:De Veluwe ATB 51 km
DESCRIPTION:{GPSCONTENT [\"id\": 226\, \"elevation\": 1\, \"speed\": 1\, \"
 nomap\": 1\, \"description\": 1]}
DTSTART:20190202T070000Z
DTSTAMP:20260424T082231Z
ORGANIZER;CN=Website WTC De Hellen:MAILTO:webmaster@wtcdehellen.nl
END:VEVENT
END:VCALENDAR