BEGIN:VCALENDAR
VERSION:2.0
PRODID:Events Booking
BEGIN:VEVENT
UID:69e5e860a6b4f
SUMMARY:De Planck 80km
DESCRIPTION:{GPSCONTENT [\"id\": 14\, \"elevation\": 1\, \"speed\": 1\, \"n
 omap\": 1\, \"description\": 1]}
DTSTART:20180331T053000Z
DTSTAMP:20260420T084832Z
ORGANIZER;CN=Website WTC De Hellen:MAILTO:webmaster@wtcdehellen.nl
END:VEVENT
END:VCALENDAR